BEGIN:VCALENDAR
VERSION:2.0
PRODID:-//Squarespace Inc/Squarespace 6//v6//EN
BEGIN:VEVENT
UID:548a6f85e4b04f6e8e8230d2@squarespace.com
DTSTAMP:20141212T043138Z
DTSTART:20141212T050000Z
DTEND:20141212T060000Z
SUMMARY:19 Dec: Fundamentals
END:VEVENT
END:VCALENDAR
