BEGIN:VCALENDAR
VERSION:2.0
PRODID:-//Squarespace Inc/Squarespace 6//v6//EN
BEGIN:VEVENT
UID:548a6fb8e4b0cef179458334@squarespace.com
DTSTAMP:20141212T043204Z
DTSTART:20141212T050000Z
DTEND:20141212T060000Z
SUMMARY:20 Jan: Fundamentals
END:VEVENT
END:VCALENDAR
